BEGIN:VCALENDAR
VERSION:2.0
PRODID:-//Woodside Garden - ECPv6.15.20//NONSGML v1.0//EN
CALSCALE:GREGORIAN
METHOD:PUBLISH
X-WR-CALNAME:Woodside Garden
X-ORIGINAL-URL:https://woodsidegarden.co.uk
X-WR-CALDESC:Events for Woodside Garden
REFRESH-INTERVAL;VALUE=DURATION:PT1H
X-Robots-Tag:noindex
X-PUBLISHED-TTL:PT1H
BEGIN:VTIMEZONE
TZID:Europe/London
BEGIN:DAYLIGHT
TZOFFSETFROM:+0000
TZOFFSETTO:+0100
TZNAME:BST
DTSTART:20240331T010000
END:DAYLIGHT
BEGIN:STANDARD
TZOFFSETFROM:+0100
TZOFFSETTO:+0000
TZNAME:GMT
DTSTART:20241027T010000
END:STANDARD
BEGIN:DAYLIGHT
TZOFFSETFROM:+0000
TZOFFSETTO:+0100
TZNAME:BST
DTSTART:20250330T010000
END:DAYLIGHT
BEGIN:STANDARD
TZOFFSETFROM:+0100
TZOFFSETTO:+0000
TZNAME:GMT
DTSTART:20251026T010000
END:STANDARD
BEGIN:DAYLIGHT
TZOFFSETFROM:+0000
TZOFFSETTO:+0100
TZNAME:BST
DTSTART:20260329T010000
END:DAYLIGHT
BEGIN:STANDARD
TZOFFSETFROM:+0100
TZOFFSETTO:+0000
TZNAME:GMT
DTSTART:20261025T010000
END:STANDARD
END:VTIMEZONE
BEGIN:VEVENT
DTSTART;TZID=Europe/London:20250106T120000
DTEND;TZID=Europe/London:20250106T150000
DTSTAMP:20260424T101220
CREATED:20241231T114421Z
LAST-MODIFIED:20250101T144959Z
UID:5213-1736164800-1736175600@woodsidegarden.co.uk
SUMMARY:Winter Warmer Lunch
DESCRIPTION:Enjoy a 2 course lunch in our cosy tearoom in front of our log burning stove\, and watch the birds feeding outside. Add a bowl of homemade soup for an extra £4 to make a warming 3 course meal. \nMain course – Pasta Bolognese \nPudding – Homemade Sticky Toffee Pudding with Cream \n£18 per person – please book by telephone
URL:https://woodsidegarden.co.uk/event/winter-warmer-lunch-6
LOCATION:Birdhouse Tearoom\, Woodside Walled Garden\, Jedburgh\, Scottish Borders\, TD8 6TU\, United Kingdom
ATTACH;FMTTYPE=image/jpeg:https://woodsidegarden.co.uk/wp-content/uploads/2024/12/Spaghetti-Bolognese.jpg
END:VEVENT
END:VCALENDAR