BEGIN:VCALENDAR
VERSION:2.0
PRODID:-//Woodside Garden - ECPv6.15.20//NONSGML v1.0//EN
CALSCALE:GREGORIAN
METHOD:PUBLISH
X-WR-CALNAME:Woodside Garden
X-ORIGINAL-URL:https://woodsidegarden.co.uk
X-WR-CALDESC:Events for Woodside Garden
REFRESH-INTERVAL;VALUE=DURATION:PT1H
X-Robots-Tag:noindex
X-PUBLISHED-TTL:PT1H
BEGIN:VTIMEZONE
TZID:Europe/London
BEGIN:DAYLIGHT
TZOFFSETFROM:+0000
TZOFFSETTO:+0100
TZNAME:BST
DTSTART:20240331T010000
END:DAYLIGHT
BEGIN:STANDARD
TZOFFSETFROM:+0100
TZOFFSETTO:+0000
TZNAME:GMT
DTSTART:20241027T010000
END:STANDARD
BEGIN:DAYLIGHT
TZOFFSETFROM:+0000
TZOFFSETTO:+0100
TZNAME:BST
DTSTART:20250330T010000
END:DAYLIGHT
BEGIN:STANDARD
TZOFFSETFROM:+0100
TZOFFSETTO:+0000
TZNAME:GMT
DTSTART:20251026T010000
END:STANDARD
BEGIN:DAYLIGHT
TZOFFSETFROM:+0000
TZOFFSETTO:+0100
TZNAME:BST
DTSTART:20260329T010000
END:DAYLIGHT
BEGIN:STANDARD
TZOFFSETFROM:+0100
TZOFFSETTO:+0000
TZNAME:GMT
DTSTART:20261025T010000
END:STANDARD
END:VTIMEZONE
BEGIN:VEVENT
DTSTART;TZID=Europe/London:20250330T130000
DTEND;TZID=Europe/London:20250330T140000
DTSTAMP:20260422T133604
CREATED:20250317T120729Z
LAST-MODIFIED:20250317T121151Z
UID:5377-1743339600-1743343200@woodsidegarden.co.uk
SUMMARY:Mother's Day Lunch
DESCRIPTION:We are delighted to be offering a Mother’s Day Lunch in the Birdhouse Tea Room on 30th March. Book in advance by calling us on 01835 830315 with your menu choices. \n  \nMother’s Day Lunch Menu\n \nAtlantic Prawn and smoked Salmon cocktail\nPea & mint hummus with oatcakes\nSoup of the day\n*****\nRoast breast of Chicken wrapped in bacon and stuffed with olives and ricotta\, served with a chive cream sauce\, mashed potato and asparagus \nSweet Potato stuffed with mushrooms\, spinach and feta served with herb and garlic couscous\n*****\nRaspberry and white chocolate meringue roulade\nLemon cheesecake with cream\nChoice of ice-cream \n£27.50 per person. Please book with menu choices by phoning 01835 830315. £5 deposit per person required on booking.\nPlease let us know of any food allergies when booking.
URL:https://woodsidegarden.co.uk/event/mothers-day-lunch
ATTACH;FMTTYPE=image/png:https://woodsidegarden.co.uk/wp-content/uploads/2024/01/soup.png
END:VEVENT
BEGIN:VEVENT
DTSTART;TZID=Europe/London:20250331T130000
DTEND;TZID=Europe/London:20250331T140000
DTSTAMP:20260422T133604
CREATED:20250317T121623Z
LAST-MODIFIED:20250317T121623Z
UID:5381-1743426000-1743429600@woodsidegarden.co.uk
SUMMARY:Mother's Day Lunch
DESCRIPTION:If you couldn’t make it to the Birdhouse Tea Room on Mother’s Day\, we are giving you a second chance by offering our Mother’s Day Lunch menu on Monday 31st March. Book in advance by calling us on 01835 830315 with your menu choices. \n  \nMother’s Day Lunch Menu\n \nAtlantic Prawn and smoked Salmon cocktail\nPea & mint hummus with oatcakes\nSoup of the day\n*****\nRoast breast of Chicken wrapped in bacon and stuffed with olives and ricotta\, served with a chive cream sauce\, mashed potato and asparagus \nSweet Potato stuffed with mushrooms\, spinach and feta served with herb and garlic couscous\n*****\nRaspberry and white chocolate meringue roulade\nLemon cheesecake with cream\nChoice of ice-cream \n£27.50 per person. Please book with menu choices by phoning 01835 830315. £5 deposit per person required on booking.\nPlease let us know of any food allergies when booking.
URL:https://woodsidegarden.co.uk/event/mothers-day-lunch-2
ATTACH;FMTTYPE=image/png:https://woodsidegarden.co.uk/wp-content/uploads/2024/02/salmon.png
END:VEVENT
END:VCALENDAR